BEGIN:VCALENDAR
VERSION:2.0
PRODID:-//185.62.237.140//NONSGML kigkonsult.se iCalcreator 2.26.9//
CALSCALE:GREGORIAN
METHOD:PUBLISH
X-FROM-URL:https://urallabusinesschamber.org.au
X-WR-TIMEZONE:Australia/Sydney
BEGIN:VTIMEZONE
TZID:Australia/Sydney
X-LIC-LOCATION:Australia/Sydney
BEGIN:STANDARD
DTSTART:20200405T030000
TZOFFSETFROM:+1100
TZOFFSETTO:+1000
RDATE:20210404T030000
TZNAME:AEST
END:STANDARD
BEGIN:DAYLIGHT
DTSTART:20191006T020000
TZOFFSETFROM:+1000
TZOFFSETTO:+1100
RDATE:20201004T020000
TZNAME:AEDT
END:DAYLIGHT
END:VTIMEZONE
BEGIN:VEVENT
UID:ai1ec-5744@urallabusinesschamber.org.au
DTSTAMP:20200227T222811Z
CATEGORIES;LANGUAGE=en-AU:Committee\,Members\,Public
CONTACT:
DESCRIPTION:More details here
DTSTART;VALUE=DATE:20190715
DTEND;VALUE=DATE:20190716
SEQUENCE:0
SUMMARY:Vote for Hill Street Loos opens
URL:https://urallabusinesschamber.org.au/event/vote-for-hill-street-loos-op
 ens/
X-COST-TYPE:free
X-ALT-DESC;FMTTYPE=text/html:<!DOCTYPE HTML PUBLIC '-//W3C//DTD HTML 3.2//E
 N'>\\n<HTML>\\n<HEAD>\\n<TITLE></TITLE>\\n</HEAD>\\n<BODY><p><a href='http
 s://urallabusinesschamber.org.au/2019/07/12/hill-street-loos-my-community-
 project-2019/'>More details here</a></p>\n</BODY></HTML>
END:VEVENT
BEGIN:VEVENT
UID:ai1ec-5753@urallabusinesschamber.org.au
DTSTAMP:20200227T222811Z
CATEGORIES;LANGUAGE=en-AU:Committee\,Members\,Public
CONTACT:
DESCRIPTION:Purchase in store at IMACKA Property or Thunder Graphics in Ura
 lla’s main street\, or see our website for details on how to purchase onli
 ne…\nPurchase tickets to the 2019 Awards Night\n\n 
DTSTART;VALUE=DATE:20190725
DTEND;VALUE=DATE:20190726
SEQUENCE:0
SUMMARY:Last day to purchase tickets to the Awards Night!
URL:https://urallabusinesschamber.org.au/event/last-day-to-purchase-tickets
 -to-the-awards-night/
X-COST-TYPE:free
X-ALT-DESC;FMTTYPE=text/html:<!DOCTYPE HTML PUBLIC '-//W3C//DTD HTML 3.2//E
 N'>\\n<HTML>\\n<HEAD>\\n<TITLE></TITLE>\\n</HEAD>\\n<BODY><p>Purchase in s
 tore at IMACKA Property or Thunder Graphics in Uralla’s main street\, or s
 ee our website for details on how to purchase online…</p>\n<blockquote cla
 ss='wp-embedded-content' data-secret='kIXJtjKR3a'><p><a href='https://ural
 labusinesschamber.org.au/purchase-tickets-to-the-awards-night/'>Purchase t
 ickets to the 2019 Awards Night</a></p></blockquote>\n<p><iframe title='“P
 urchase tickets to the 2019 Awards Night” — Uralla Shire Business Chamber'
  class='wp-embedded-content' sandbox='allow-scripts' security='restricted'
  style='position: absolute\; clip: rect(1px\, 1px\, 1px\, 1px)\;' src='htt
 ps://urallabusinesschamber.org.au/purchase-tickets-to-the-awards-night/emb
 ed/#?secret=kIXJtjKR3a' data-secret='kIXJtjKR3a' width='600' height='338' 
 frameborder='0' marginwidth='0' marginheight='0' scrolling='no'></iframe><
 /p>\n<p> </p>\n</BODY></HTML>
END:VEVENT
BEGIN:VEVENT
UID:ai1ec-5589@urallabusinesschamber.org.au
DTSTAMP:20200227T222811Z
CATEGORIES;LANGUAGE=en-AU:Public
CONTACT:
DESCRIPTION:We need to form a committee of eight so we are inviting you to 
 come along to a meeting on the Thursday the 6th of April at 6pm at the Ura
 lla Bowling Club so you can be a part of the election process\, either by 
 standing for nomination or by making a choice on who you would like to rep
 resent you.\nPositions to be elected are for:\nPresident\nVice President\n
 Secretary\nTreasurer\nPlus four committee/board members.\nIn order to be o
 n the committee you need to be an individual who has an ABN\, is currently
  trading and making a living out of your business and your place of busine
 ss is in the Uralla Shire.\nWe are also looking for a large membership bas
 e so that everyone can have a say and a vote! We can’t do this without you
 !\nWe need a minimum of five and a maximum of eight on the committee\, how
 ever all members of the Chamber are encouraged to attend meetings.\nWe see
  this Chamber as being an inclusive cooperative group of Uralla Shire Busi
 nesses working together for the common goal of making the Uralla Shire a t
 hriving economy and a success for all businesses and residents of the Ural
 la Region. This can take the form of supporting individual businesses\, bu
 t the over-arching vision is to make Uralla an awesome place to visit\, wo
 rk and live – and have the entire country know that! We have some golden o
 pportunities already in our Shire\, and with the support of an already int
 erested and favourable Shire Council\, and a handy NSW Minister of Tourism
  on board\, we can really run with this – the potential is huge here!\nPle
 ase rsvp to chamber(Replace this parenthesis with the @ sign)urallashirebu
 sinesschamber.com by the 3rd of April\, thank you.\nPlease pass this info 
 on to anyone in business in the Uralla Shire whom you think would be inter
 ested.\nSee you there!
DTSTART;TZID=Australia/Sydney:20170406T180000
DTEND;TZID=Australia/Sydney:20170406T200000
GEO:-30.63911;+151.49668
LOCATION:Uralla Bowling Club @ 19 Queen St\, Uralla\, NSW 2358
SEQUENCE:0
SUMMARY:Startup Meeting
URL:https://urallabusinesschamber.org.au/event/startup-meeting/
X-COST-TYPE:free
X-ALT-DESC;FMTTYPE=text/html:<!DOCTYPE HTML PUBLIC '-//W3C//DTD HTML 3.2//E
 N'>\\n<HTML>\\n<HEAD>\\n<TITLE></TITLE>\\n</HEAD>\\n<BODY><p>We need to fo
 rm a committee of eight so we are inviting you to come along to a meeting 
 on the <strong><span style='color: magenta\;'>Thursday the 6th of April at
  6pm at the Uralla Bowling Club</span></strong> so you can be a part of th
 e election process\, either by standing for nomination or by making a choi
 ce on who you would like to represent you.</p>\n<p>Positions to be elected
  are for:<br />\nPresident<br />\nVice President<br />\nSecretary<br />\nT
 reasurer<br />\nPlus four committee/board members.</p>\n<p>In order to be 
 on the committee you need to be an individual who has an ABN\, is currentl
 y trading and making a living out of your business and your place of busin
 ess is in the Uralla Shire.</p>\n<p>We are also looking for a large member
 ship base so that everyone can have a say and a vote! We can’t do this wit
 hout you!</p>\n<p>We need a minimum of five and a maximum of eight on the 
 committee\, however all members of the Chamber are encouraged to attend me
 etings.</p>\n<p>We see this Chamber as being an inclusive cooperative grou
 p of Uralla Shire Businesses working together for the common goal of makin
 g the Uralla Shire a thriving economy and a success for all businesses and
  residents of the Uralla Region. This can take the form of supporting indi
 vidual businesses\, but the over-arching vision is to make Uralla an aweso
 me place to visit\, work and live – and have the entire country know that!
  We have some golden opportunities already in our Shire\, and with the sup
 port of an already interested and favourable Shire Council\, and a handy N
 SW Minister of Tourism on board\, we can really run with this – the potent
 ial is huge here!</p>\n<p>Please rsvp to <span id='cloak6dbbc2ee65916f96f7
 7a4d1f86ddb7f9'><span title='' class='pep-email'>chamber(Replace this pare
 nthesis with the @ sign)urallashirebusinesschamber.com</span></span> by th
 e 3rd of April\, thank you.</p>\n<p>Please pass this info on to anyone in 
 business in the Uralla Shire whom you think would be interested.</p>\n<p>S
 ee you there!</p>\n</BODY></HTML>
END:VEVENT
BEGIN:VEVENT
UID:ai1ec-5591@urallabusinesschamber.org.au
DTSTAMP:20200227T222811Z
CATEGORIES;LANGUAGE=en-AU:Committee\,Members\,Public
CONTACT:
DESCRIPTION:
DTSTART;TZID=Australia/Sydney:20170504T180000
LOCATION:Uralla Bowling Club
SEQUENCE:0
SUMMARY:Meeting
URL:https://urallabusinesschamber.org.au/event/meeting/
X-COST-TYPE:free
X-INSTANT-EVENT:1
END:VEVENT
BEGIN:VEVENT
UID:ai1ec-5595@urallabusinesschamber.org.au
DTSTAMP:20200227T222811Z
CATEGORIES;LANGUAGE=en-AU:Committee\,Members\,Public
CONTACT:
DESCRIPTION:we have decided that every other month we will have meetings on
  Wednesday\, and the other month will be on Thursdays. Hoping this will su
 it our members better.
DTSTART;TZID=Australia/Sydney:20170609T173000
SEQUENCE:0
SUMMARY:General Meeting
URL:https://urallabusinesschamber.org.au/event/general-meeting/
X-COST-TYPE:free
X-ALT-DESC;FMTTYPE=text/html:<!DOCTYPE HTML PUBLIC '-//W3C//DTD HTML 3.2//E
 N'>\\n<HTML>\\n<HEAD>\\n<TITLE></TITLE>\\n</HEAD>\\n<BODY><p>we have decid
 ed that every other month we will have meetings on Wednesday\, and the oth
 er month will be on Thursdays. Hoping this will suit our members better.</
 p>\n</BODY></HTML>
X-INSTANT-EVENT:1
END:VEVENT
BEGIN:VEVENT
UID:ai1ec-5592@urallabusinesschamber.org.au
DTSTAMP:20200227T222811Z
CATEGORIES;LANGUAGE=en-AU:Committee\,Members\,Public
CONTACT:
DESCRIPTION:bring a plate of nibblies to share
DTSTART;TZID=Australia/Sydney:20170706T173000
LOCATION:McCrossins Mill
SEQUENCE:0
SUMMARY:General Meeting – Ideas Night
URL:https://urallabusinesschamber.org.au/event/general-meeting-ideas-night/
X-COST-TYPE:free
X-ALT-DESC;FMTTYPE=text/html:<!DOCTYPE HTML PUBLIC '-//W3C//DTD HTML 3.2//E
 N'>\\n<HTML>\\n<HEAD>\\n<TITLE></TITLE>\\n</HEAD>\\n<BODY><p>bring a plate
  of nibblies to share</p>\n</BODY></HTML>
X-INSTANT-EVENT:1
END:VEVENT
BEGIN:VEVENT
UID:ai1ec-5594@urallabusinesschamber.org.au
DTSTAMP:20200227T222811Z
CATEGORIES;LANGUAGE=en-AU:Committee\,Members\,Public
CONTACT:
DESCRIPTION:Thank you to everyone who came along to our Ideas Night the oth
 er week. It was a terrific night and a lot of good creativity was flowing.
 \nResoundingly\, it was decided that the very next step in our journey to 
 greatness was a Strategic Planning and Vision Workshop\, so we could devel
 op a purpose and everyone can align to that.\nSo\, before ideas are put fo
 rward we need to have a vision and strategy plan (VASP) so that the USBC i
 s projected and a structured community body working towards business growt
 h in the USBC.\nBy doing this we will have a clear model of what the USBC 
 wants to achieve and be able to present the USBC as a professional and str
 uctured entity.\nThis will also be something that can be used when making 
 proposals and grant requests.\nIt was agreed this workshop should be done 
 as soon as possible with the involvement of an external facilitator.\nWe h
 ave been very lucky to score Joe and Diane from the NSW Business Chamber t
 o help us by facilitating this meeting\, and it will be on Monday\, the 24
 th of July at 3pm at the Thunderbolt Inn (Bottom pub)\, followed by dinner
  (at own expense) if you so choose.\nIn preparation for this workshop cons
 ider any main points of issue that should be included in the VASP.\nPut yo
 ur thinking caps on and let’s together work out in what direction we want 
 to take this\, our Business Chamber!\nAll interested in seeing business in
  our shire thrive are welcome – tell your colleagues too.\nSee you on Mond
 ay afternoon! If you can’t attend please email your suggestions to Sonia a
 t chamber(Replace this parenthesis with the @ sign)urallashirebusinesscham
 ber.com
DTSTART;TZID=Australia/Sydney:20170724T150000
DTEND;TZID=Australia/Sydney:20170724T190000
LOCATION:Bottom Pub
SEQUENCE:0
SUMMARY:Strategic Planning and Vision Workshop
URL:https://urallabusinesschamber.org.au/event/strategic-planning-and-visio
 n-workshop/
X-COST-TYPE:free
X-ALT-DESC;FMTTYPE=text/html:<!DOCTYPE HTML PUBLIC '-//W3C//DTD HTML 3.2//E
 N'>\\n<HTML>\\n<HEAD>\\n<TITLE></TITLE>\\n</HEAD>\\n<BODY><p>Thank you to 
 everyone who came along to our Ideas Night the other week. It was a terrif
 ic night and a lot of good creativity was flowing.</p>\n<p>Resoundingly\, 
 it was decided that the very next step in our journey to greatness was a S
 trategic Planning and Vision Workshop\, so we could develop a purpose and 
 everyone can align to that.</p>\n<p>So\, before ideas are put forward we n
 eed to have a vision and strategy plan (VASP) so that the USBC is projecte
 d and a structured community body working towards business growth in the U
 SBC.</p>\n<p>By doing this we will have a clear model of what the USBC wan
 ts to achieve and be able to present the USBC as a professional and struct
 ured entity.</p>\n<p>This will also be something that can be used when mak
 ing proposals and grant requests.</p>\n<p>It was agreed this workshop shou
 ld be done as soon as possible with the involvement of an external facilit
 ator.</p>\n<p>We have been very lucky to score Joe and Diane from the NSW 
 Business Chamber to help us by facilitating this meeting\, and it will be 
 on Monday\, the 24th of July at 3pm at the Thunderbolt Inn (Bottom pub)\, 
 followed by dinner (at own expense) if you so choose.</p>\n<p>In preparati
 on for this workshop consider any main points of issue that should be incl
 uded in the VASP.</p>\n<p>Put your thinking caps on and let’s together wor
 k out in what direction we want to take this\, our Business Chamber!</p>\n
 <p>All interested in seeing business in our shire thrive are welcome – tel
 l your colleagues too.</p>\n<p>See you on Monday afternoon! If you can’t a
 ttend please email your suggestions to Sonia at <span title='' class='pep-
 email'>chamber(Replace this parenthesis with the @ sign)urallashirebusines
 schamber.com</span></p>\n</BODY></HTML>
END:VEVENT
BEGIN:VEVENT
UID:ai1ec-5596@urallabusinesschamber.org.au
DTSTAMP:20200227T222811Z
CATEGORIES;LANGUAGE=en-AU:Committee\,Members\,Public
CONTACT:
DESCRIPTION:
DTSTART;TZID=Australia/Sydney:20171004T173000
DTEND;TZID=Australia/Sydney:20171004T190000
LOCATION:Uralla Bowling Club
SEQUENCE:0
SUMMARY:General Meeting
URL:https://urallabusinesschamber.org.au/event/general-meeting-2/
X-COST-TYPE:free
END:VEVENT
BEGIN:VEVENT
UID:ai1ec-5599@urallabusinesschamber.org.au
DTSTAMP:20200227T222811Z
CATEGORIES;LANGUAGE=en-AU:Committee\,Members\,Public
CONTACT:
DESCRIPTION:
DTSTART;TZID=Australia/Sydney:20171102T173000
DTEND;TZID=Australia/Sydney:20171102T180000
LOCATION:Uralla Bowling Club
SEQUENCE:0
SUMMARY:Annual General Meeting
URL:https://urallabusinesschamber.org.au/event/annual-general-meeting/
X-COST-TYPE:free
END:VEVENT
BEGIN:VEVENT
UID:ai1ec-5600@urallabusinesschamber.org.au
DTSTAMP:20200227T222811Z
CATEGORIES;LANGUAGE=en-AU:Committee\,Members\,Public
CONTACT:
DESCRIPTION:General Meeting follows the AGM on the same day.
DTSTART;TZID=Australia/Sydney:20171102T180000
DTEND;TZID=Australia/Sydney:20171102T190000
SEQUENCE:0
SUMMARY:General Meeting
URL:https://urallabusinesschamber.org.au/event/general-meeting-3/
X-COST-TYPE:free
X-ALT-DESC;FMTTYPE=text/html:<!DOCTYPE HTML PUBLIC '-//W3C//DTD HTML 3.2//E
 N'>\\n<HTML>\\n<HEAD>\\n<TITLE></TITLE>\\n</HEAD>\\n<BODY><p>General Meeti
 ng follows the AGM on the same day.</p>\n</BODY></HTML>
END:VEVENT
BEGIN:VEVENT
UID:ai1ec-5601@urallabusinesschamber.org.au
DTSTAMP:20200227T222811Z
CATEGORIES;LANGUAGE=en-AU:Committee\,Members\,Public
CONTACT:Secretary\; secretary@urallabusinesschamber.org.au
DESCRIPTION:
DTSTART;TZID=Australia/Sydney:20171207T180000
DTEND;TZID=Australia/Sydney:20171207T190000
EXDATE;TZID=Australia/Sydney:20180906T180000
LOCATION:Uralla Bowling Club
RRULE:FREQ=MONTHLY;COUNT=12;BYDAY=1TH
SEQUENCE:0
SUMMARY:General Meeting
URL:https://urallabusinesschamber.org.au/event/general-meeting-4/
X-COST-TYPE:free
END:VEVENT
BEGIN:VEVENT
UID:ai1ec-5602@urallabusinesschamber.org.au
DTSTAMP:20200227T222811Z
CATEGORIES;LANGUAGE=en-AU:Public
CONTACT:President Teresa French\; Thunder Graphics\; office@urallabusinessc
 hamber.org.au
DESCRIPTION:
DTSTART;TZID=Australia/Sydney:20180727T183000
DTEND;TZID=Australia/Sydney:20180727T220000
LOCATION:McCrossins Mill
SEQUENCE:0
SUMMARY:Inaugural Excellence Awards for Service to our community
URL:https://urallabusinesschamber.org.au/event/inaugural-excellence-awards-
 for-service-to-our-community/
X-COST-TYPE:external
X-COST:$25pp
END:VEVENT
BEGIN:VEVENT
UID:ai1ec-5603@urallabusinesschamber.org.au
DTSTAMP:20200227T222811Z
CATEGORIES;LANGUAGE=en-AU:Committee\,Members\,Public
CONTACT:
DESCRIPTION:AGM For the Chamber\,\nFull membership needs to be current in o
 rder to stand on or vote for your committee.\nMembership form can download
 ed here.\nAGM will be followed by Monthly General Meeting.
DTSTART;TZID=Australia/Sydney:20180906T180000
DTEND;TZID=Australia/Sydney:20180906T183000
SEQUENCE:0
SUMMARY:Annual General Meeting
URL:https://urallabusinesschamber.org.au/event/annual-general-meeting-2/
X-COST-TYPE:free
X-ALT-DESC;FMTTYPE=text/html:<!DOCTYPE HTML PUBLIC '-//W3C//DTD HTML 3.2//E
 N'>\\n<HTML>\\n<HEAD>\\n<TITLE></TITLE>\\n</HEAD>\\n<BODY><p>AGM For the C
 hamber\,</p>\n<p>Full membership needs to be current in order to stand on 
 or vote for your committee.</p>\n<p>Membership form can <a href='images/re
 sources/MemberApp.pdf'>downloaded here</a>.</p>\n<p>AGM will be followed b
 y Monthly General Meeting.</p>\n</BODY></HTML>
END:VEVENT
BEGIN:VEVENT
UID:ai1ec-5609@urallabusinesschamber.org.au
DTSTAMP:20200227T222811Z
CATEGORIES;LANGUAGE=en-AU:Committee\,Members\,Public
CONTACT:
DESCRIPTION:
DTSTART;TZID=Australia/Sydney:20190207T173000
DTEND;TZID=Australia/Sydney:20190207T190000
EXDATE;TZID=Australia/Sydney:20190307T173000
LOCATION:Uralla Bowling Club
RRULE:FREQ=MONTHLY;COUNT=12;BYDAY=1TH
SEQUENCE:0
SUMMARY:Monthly Meeting
URL:https://urallabusinesschamber.org.au/event/monthly-meeting/
X-COST-TYPE:free
END:VEVENT
BEGIN:VEVENT
UID:ai1ec-5610@urallabusinesschamber.org.au
DTSTAMP:20200227T222811Z
CATEGORIES;LANGUAGE=en-AU:Committee\,Members\,Public
CONTACT:
DESCRIPTION:Come along to our next monthly meeting at 5.30pm at the Uralla 
 Bowling Club and meet our sitting federal member of parliament\, Barnaby J
 oyce.
DTSTART;TZID=Australia/Sydney:20190307T173000
DTEND;TZID=Australia/Sydney:20190307T190000
LOCATION:Uralla Bowling Club
SEQUENCE:0
SUMMARY:Meeting with Barnaby Joyce
URL:https://urallabusinesschamber.org.au/event/meeting-with-barnaby-joyce/
X-COST-TYPE:free
X-ALT-DESC;FMTTYPE=text/html:<!DOCTYPE HTML PUBLIC '-//W3C//DTD HTML 3.2//E
 N'>\\n<HTML>\\n<HEAD>\\n<TITLE></TITLE>\\n</HEAD>\\n<BODY><p>Come along to
  our next monthly meeting at 5.30pm at the Uralla Bowling Club and meet ou
 r sitting federal member of parliament\, Barnaby Joyce.</p>\n</BODY></HTML
 >
END:VEVENT
BEGIN:VEVENT
UID:ai1ec-5743@urallabusinesschamber.org.au
DTSTAMP:20200227T222811Z
CATEGORIES;LANGUAGE=en-AU:Committee\,Members\,Public
CONTACT:
DESCRIPTION:Last day of voting is Sunday 14 July at midnight – drop your fo
 rm in at Uralla  Pharmacy\, Foodworks Uralla\, or slip under the door at T
 hunder Graphics (we are away currently) – or email to secretary(Replace th
 is parenthesis with the @ sign)urallabusinesschamber.org.au\nGet your voti
 ng form here
DTSTART;TZID=Australia/Sydney:20190714T234500
SEQUENCE:0
SUMMARY:Voting Closes for business Awards
URL:https://urallabusinesschamber.org.au/event/voting-closes-for-business-a
 wards/
X-COST-TYPE:free
X-ALT-DESC;FMTTYPE=text/html:<!DOCTYPE HTML PUBLIC '-//W3C//DTD HTML 3.2//E
 N'>\\n<HTML>\\n<HEAD>\\n<TITLE></TITLE>\\n</HEAD>\\n<BODY><p>Last day of v
 oting is Sunday 14 July at midnight – drop your form in at Uralla  Pharmac
 y\, Foodworks Uralla\, or slip under the door at Thunder Graphics (we are 
 away currently) – or email to <span title='' class='pep-email'>secretary(R
 eplace this parenthesis with the @ sign)urallabusinesschamber.org.au</span
 ></p>\n<p><a href='https://urallabusinesschamber.org.au/wp-content/uploads
 /2019/06/Votingform2019.pdf'>Get your voting form here</a></p>\n</BODY></H
 TML>
X-INSTANT-EVENT:1
END:VEVENT
BEGIN:VEVENT
UID:ai1ec-5604@urallabusinesschamber.org.au
DTSTAMP:20200227T222811Z
CATEGORIES;LANGUAGE=en-AU:Committee\,Members\,Public
CONTACT:Secretary\; secretary@urallabusinesschamber.org.au
DESCRIPTION:Tickets: https://urallashirebusinesschamberawardsofexcellencece
 le.floktu.com/.
DTSTART;TZID=Australia/Sydney:20190726T183000
DTEND;TZID=Australia/Sydney:20190726T220000
LOCATION:Uralla Showgrounds
SEQUENCE:0
SUMMARY:Business Awards Night 2019
URL:https://urallabusinesschamber.org.au/event/business-awards-night-2019/
X-COST-TYPE:external
X-ALT-DESC;FMTTYPE=text/html:<!DOCTYPE HTML PUBLIC '-//W3C//DTD HTML 3.2//E
 N'>\\n<HTML>\\n<HEAD>\\n<TITLE></TITLE>\\n</HEAD>\\n<BODY><p>Tickets: <a c
 lass='ai1ec-ticket-url-exported' href='https://urallashirebusinesschambera
 wardsofexcellencecele.floktu.com/'>https://urallashirebusinesschamberaward
 sofexcellencecele.floktu.com/</a>.</p></BODY></HTML>
X-COST:$35pp
X-TICKETS-URL:https://urallashirebusinesschamberawardsofexcellencecele.flok
 tu.com/
END:VEVENT
BEGIN:VEVENT
UID:ai1ec-5898@urallabusinesschamber.org.au
DTSTAMP:20200227T222811Z
CATEGORIES;LANGUAGE=en-AU:Committee\,Members\,Public
CONTACT:
DESCRIPTION:More details here
DTSTART;TZID=Australia/Sydney:20190815T170000
SEQUENCE:0
SUMMARY:Last day to vote for the Hill Street Loos!
URL:https://urallabusinesschamber.org.au/event/last-day-to-vote-for-the-hil
 l-street-loos/
X-COST-TYPE:free
X-ALT-DESC;FMTTYPE=text/html:<!DOCTYPE HTML PUBLIC '-//W3C//DTD HTML 3.2//E
 N'>\\n<HTML>\\n<HEAD>\\n<TITLE></TITLE>\\n</HEAD>\\n<BODY><p><a href='http
 s://urallabusinesschamber.org.au/2019/07/12/hill-street-loos-my-community-
 project-2019/'>More details here</a></p>\n</BODY></HTML>
X-INSTANT-EVENT:1
END:VEVENT
BEGIN:VEVENT
UID:ai1ec-5978@urallabusinesschamber.org.au
DTSTAMP:20200227T222811Z
CATEGORIES;LANGUAGE=en-AU:Committee\,Members\,Public
CONTACT:secretary@urallabusinesschamber.org.au
DESCRIPTION:At our meeting at the beginning of July it was determined that 
 our AGM will be held on Thursday the 5th of September at 5.30pm at the Ura
 lla Bowling Club\, so this is written notice of that meeting. It was also 
 posted in the email sent out to all interested people who have subscribed 
 to our mailing list.\nWe could use a few more people on the Committee! Com
 e join us and help our Business Chamber help our Shire thrive! Please reme
 mber that in order to be on the Committee\, and in order to vote\, you wil
 l need to be a Full Business member (membership forms are here).
DTSTART;TZID=Australia/Sydney:20190905T173000
DTEND;TZID=Australia/Sydney:20190905T193000
LOCATION:Uralla Bowling Club @ Hill St\, Uralla
SEQUENCE:0
SUMMARY:AGM 2019
URL:https://urallabusinesschamber.org.au/event/5978/
X-COST-TYPE:free
X-ALT-DESC;FMTTYPE=text/html:<!DOCTYPE HTML PUBLIC '-//W3C//DTD HTML 3.2//E
 N'>\\n<HTML>\\n<HEAD>\\n<TITLE></TITLE>\\n</HEAD>\\n<BODY><p>At our meetin
 g at the beginning of July it was determined that our AGM will be held on 
 Thursday the 5th of September at 5.30pm at the Uralla Bowling Club\, so th
 is is written notice of that meeting. It was also posted in the email sent
  out to all interested people who have subscribed to our mailing list.</p>
 \n<p>We could use a few more people on the Committee! Come join us and hel
 p our Business Chamber help our Shire thrive! Please remember that in orde
 r to be on the Committee\, and in order to vote\, you will need to be a Fu
 ll Business member (<a href='https://urallabusinesschamber.org.au/apply-to
 -join-the-chamber/'>membership forms are here</a>).</p>\n</BODY></HTML>
END:VEVENT
BEGIN:VEVENT
UID:ai1ec-6216@urallabusinesschamber.org.au
DTSTAMP:20200227T222811Z
CATEGORIES;LANGUAGE=en-AU:Committee\,Members\,Public
CONTACT:
DESCRIPTION:More details to be advised
DTSTART;TZID=Australia/Sydney:20191107T073000
DTEND;TZID=Australia/Sydney:20191107T090000
SEQUENCE:0
SUMMARY:Monthly Meeting (Breakfast)
URL:https://urallabusinesschamber.org.au/event/monthly-meeting-2/
X-COST-TYPE:free
X-ALT-DESC;FMTTYPE=text/html:<!DOCTYPE HTML PUBLIC '-//W3C//DTD HTML 3.2//E
 N'>\\n<HTML>\\n<HEAD>\\n<TITLE></TITLE>\\n</HEAD>\\n<BODY><p>More details 
 to be advised</p>\n</BODY></HTML>
END:VEVENT
BEGIN:VEVENT
UID:ai1ec-6286@urallabusinesschamber.org.au
DTSTAMP:20200227T222811Z
CATEGORIES;LANGUAGE=en-AU:Committee\,Members\,Public
CONTACT:
DESCRIPTION:
DTSTART;TZID=Australia/Sydney:20200206T173000
DTEND;TZID=Australia/Sydney:20200206T193000
LOCATION:Uralla Bowling Club @ Hill Street
RDATE;TZID=Australia/Sydney:20200206T173000
RDATE;TZID=Australia/Sydney:20200402T173000
RDATE;TZID=Australia/Sydney:20200604T173000
RDATE;TZID=Australia/Sydney:20200806T173000
RDATE;TZID=Australia/Sydney:20201001T173000
RDATE;TZID=Australia/Sydney:20201203T173000
SEQUENCE:0
SUMMARY:Monthly Meeting – evening
URL:https://urallabusinesschamber.org.au/event/monthly-meeting-3/
X-COST-TYPE:free
END:VEVENT
BEGIN:VEVENT
UID:ai1ec-6287@urallabusinesschamber.org.au
DTSTAMP:20200227T222811Z
CATEGORIES;LANGUAGE=en-AU:Committee\,Members\,Public
CONTACT:
DESCRIPTION:
DTSTART;TZID=Australia/Sydney:20200305T073000
DTEND;TZID=Australia/Sydney:20200305T090000
LOCATION:to be advised
RDATE;TZID=Australia/Sydney:20200305T073000
RDATE;TZID=Australia/Sydney:20200507T073000
RDATE;TZID=Australia/Sydney:20200709T073000
RDATE;TZID=Australia/Sydney:20200910T073000
RDATE;TZID=Australia/Sydney:20201105T073000
SEQUENCE:0
SUMMARY:Monthly meeting – breakfast
URL:https://urallabusinesschamber.org.au/event/monthly-meeting-breakfast/
X-COST-TYPE:free
END:VEVENT
END:VCALENDAR
