BEGIN:VCALENDAR
VERSION:2.0
PRODID:-//185.62.237.140//NONSGML kigkonsult.se iCalcreator 2.26.9//
CALSCALE:GREGORIAN
METHOD:PUBLISH
X-WR-CALNAME:Uralla Shire Business Chamber
X-WR-CALDESC:Uralla Shire Business Chamber Inc
X-FROM-URL:https://urallabusinesschamber.org.au
X-WR-TIMEZONE:Australia/Sydney
BEGIN:VTIMEZONE
TZID:Australia/Sydney
X-LIC-LOCATION:Australia/Sydney
BEGIN:STANDARD
DTSTART:20200405T030000
TZOFFSETFROM:+1100
TZOFFSETTO:+1000
RDATE:20210404T030000
TZNAME:AEST
END:STANDARD
BEGIN:DAYLIGHT
DTSTART:20191006T020000
TZOFFSETFROM:+1000
TZOFFSETTO:+1100
RDATE:20201004T020000
TZNAME:AEDT
END:DAYLIGHT
END:VTIMEZONE
BEGIN:VEVENT
UID:ai1ec-5753@urallabusinesschamber.org.au
DTSTAMP:20200227T224418Z
CATEGORIES;LANGUAGE=en-AU:Committee\,Members\,Public
CONTACT:
DESCRIPTION:Purchase in store at IMACKA Property or Thunder Graphics in Ura
 lla’s main street\, or see our website for details on how to purchase onli
 ne…\nPurchase tickets to the 2019 Awards Night\n\n 
DTSTART;VALUE=DATE:20190725
DTEND;VALUE=DATE:20190726
SEQUENCE:0
SUMMARY:Last day to purchase tickets to the Awards Night!
URL:https://urallabusinesschamber.org.au/event/last-day-to-purchase-tickets
 -to-the-awards-night/
X-COST-TYPE:free
X-ALT-DESC;FMTTYPE=text/html:<!DOCTYPE HTML PUBLIC '-//W3C//DTD HTML 3.2//E
 N'>\\n<HTML>\\n<HEAD>\\n<TITLE></TITLE>\\n</HEAD>\\n<BODY><p>Purchase in s
 tore at IMACKA Property or Thunder Graphics in Uralla’s main street\, or s
 ee our website for details on how to purchase online…</p>\n<blockquote cla
 ss='wp-embedded-content' data-secret='kIXJtjKR3a'><p><a href='https://ural
 labusinesschamber.org.au/purchase-tickets-to-the-awards-night/'>Purchase t
 ickets to the 2019 Awards Night</a></p></blockquote>\n<p><iframe title='“P
 urchase tickets to the 2019 Awards Night” — Uralla Shire Business Chamber'
  class='wp-embedded-content' sandbox='allow-scripts' security='restricted'
  style='position: absolute\; clip: rect(1px\, 1px\, 1px\, 1px)\;' src='htt
 ps://urallabusinesschamber.org.au/purchase-tickets-to-the-awards-night/emb
 ed/#?secret=kIXJtjKR3a' data-secret='kIXJtjKR3a' width='600' height='338' 
 frameborder='0' marginwidth='0' marginheight='0' scrolling='no'></iframe><
 /p>\n<p> </p>\n</BODY></HTML>
END:VEVENT
END:VCALENDAR
