BEGIN:VCALENDAR
VERSION:2.0
PRODID:-//185.62.237.140//NONSGML kigkonsult.se iCalcreator 2.26.9//
CALSCALE:GREGORIAN
METHOD:PUBLISH
X-WR-CALNAME:Uralla Shire Business Chamber
X-WR-CALDESC:Uralla Shire Business Chamber Inc
X-FROM-URL:https://urallabusinesschamber.org.au
X-WR-TIMEZONE:Australia/Sydney
BEGIN:VTIMEZONE
TZID:Australia/Sydney
X-LIC-LOCATION:Australia/Sydney
BEGIN:STANDARD
DTSTART:20200405T030000
TZOFFSETFROM:+1100
TZOFFSETTO:+1000
RDATE:20210404T030000
TZNAME:AEST
END:STANDARD
BEGIN:DAYLIGHT
DTSTART:20191006T020000
TZOFFSETFROM:+1000
TZOFFSETTO:+1100
RDATE:20201004T020000
TZNAME:AEDT
END:DAYLIGHT
END:VTIMEZONE
BEGIN:VEVENT
UID:ai1ec-5596@urallabusinesschamber.org.au
DTSTAMP:20200227T230020Z
CATEGORIES;LANGUAGE=en-AU:Committee\,Members\,Public
CONTACT:
DESCRIPTION:
DTSTART;TZID=Australia/Sydney:20171004T173000
DTEND;TZID=Australia/Sydney:20171004T190000
LOCATION:Uralla Bowling Club
SEQUENCE:0
SUMMARY:General Meeting
URL:https://urallabusinesschamber.org.au/event/general-meeting-2/
X-COST-TYPE:free
END:VEVENT
END:VCALENDAR
