BEGIN:VCALENDAR
VERSION:2.0
PRODID:-//185.62.237.140//NONSGML kigkonsult.se iCalcreator 2.26.9//
CALSCALE:GREGORIAN
METHOD:PUBLISH
X-WR-CALNAME:Uralla Shire Business Chamber
X-WR-CALDESC:Uralla Shire Business Chamber Inc
X-FROM-URL:https://urallabusinesschamber.org.au
X-WR-TIMEZONE:Australia/Sydney
BEGIN:VTIMEZONE
TZID:Australia/Sydney
X-LIC-LOCATION:Australia/Sydney
BEGIN:STANDARD
DTSTART:20200405T030000
TZOFFSETFROM:+1100
TZOFFSETTO:+1000
RDATE:20210404T030000
TZNAME:AEST
END:STANDARD
BEGIN:DAYLIGHT
DTSTART:20191006T020000
TZOFFSETFROM:+1000
TZOFFSETTO:+1100
RDATE:20201004T020000
TZNAME:AEDT
END:DAYLIGHT
END:VTIMEZONE
BEGIN:VEVENT
UID:ai1ec-5595@urallabusinesschamber.org.au
DTSTAMP:20200227T225326Z
CATEGORIES;LANGUAGE=en-AU:Committee\,Members\,Public
CONTACT:
DESCRIPTION:we have decided that every other month we will have meetings on
  Wednesday\, and the other month will be on Thursdays. Hoping this will su
 it our members better.
DTSTART;TZID=Australia/Sydney:20170609T173000
SEQUENCE:0
SUMMARY:General Meeting
URL:https://urallabusinesschamber.org.au/event/general-meeting/
X-COST-TYPE:free
X-ALT-DESC;FMTTYPE=text/html:<!DOCTYPE HTML PUBLIC '-//W3C//DTD HTML 3.2//E
 N'>\\n<HTML>\\n<HEAD>\\n<TITLE></TITLE>\\n</HEAD>\\n<BODY><p>we have decid
 ed that every other month we will have meetings on Wednesday\, and the oth
 er month will be on Thursdays. Hoping this will suit our members better.</
 p>\n</BODY></HTML>
X-INSTANT-EVENT:1
END:VEVENT
END:VCALENDAR
