BEGIN:VCALENDAR
VERSION:2.0
PRODID:-//185.62.237.140//NONSGML kigkonsult.se iCalcreator 2.26.9//
CALSCALE:GREGORIAN
METHOD:PUBLISH
X-WR-CALNAME:Uralla Shire Business Chamber
X-WR-CALDESC:Uralla Shire Business Chamber Inc
X-FROM-URL:https://urallabusinesschamber.org.au
X-WR-TIMEZONE:Australia/Sydney
BEGIN:VTIMEZONE
TZID:Australia/Sydney
X-LIC-LOCATION:Australia/Sydney
BEGIN:STANDARD
DTSTART:20200405T030000
TZOFFSETFROM:+1100
TZOFFSETTO:+1000
RDATE:20210404T030000
TZNAME:AEST
END:STANDARD
BEGIN:DAYLIGHT
DTSTART:20191006T020000
TZOFFSETFROM:+1000
TZOFFSETTO:+1100
RDATE:20201004T020000
TZNAME:AEDT
END:DAYLIGHT
END:VTIMEZONE
BEGIN:VEVENT
UID:ai1ec-5594@urallabusinesschamber.org.au
DTSTAMP:20200227T225832Z
CATEGORIES;LANGUAGE=en-AU:Committee\,Members\,Public
CONTACT:
DESCRIPTION:Thank you to everyone who came along to our Ideas Night the oth
 er week. It was a terrific night and a lot of good creativity was flowing.
 \nResoundingly\, it was decided that the very next step in our journey to 
 greatness was a Strategic Planning and Vision Workshop\, so we could devel
 op a purpose and everyone can align to that.\nSo\, before ideas are put fo
 rward we need to have a vision and strategy plan (VASP) so that the USBC i
 s projected and a structured community body working towards business growt
 h in the USBC.\nBy doing this we will have a clear model of what the USBC 
 wants to achieve and be able to present the USBC as a professional and str
 uctured entity.\nThis will also be something that can be used when making 
 proposals and grant requests.\nIt was agreed this workshop should be done 
 as soon as possible with the involvement of an external facilitator.\nWe h
 ave been very lucky to score Joe and Diane from the NSW Business Chamber t
 o help us by facilitating this meeting\, and it will be on Monday\, the 24
 th of July at 3pm at the Thunderbolt Inn (Bottom pub)\, followed by dinner
  (at own expense) if you so choose.\nIn preparation for this workshop cons
 ider any main points of issue that should be included in the VASP.\nPut yo
 ur thinking caps on and let’s together work out in what direction we want 
 to take this\, our Business Chamber!\nAll interested in seeing business in
  our shire thrive are welcome – tell your colleagues too.\nSee you on Mond
 ay afternoon! If you can’t attend please email your suggestions to Sonia a
 t chamber(Replace this parenthesis with the @ sign)urallashirebusinesscham
 ber.com
DTSTART;TZID=Australia/Sydney:20170724T150000
DTEND;TZID=Australia/Sydney:20170724T190000
LOCATION:Bottom Pub
SEQUENCE:0
SUMMARY:Strategic Planning and Vision Workshop
URL:https://urallabusinesschamber.org.au/event/strategic-planning-and-visio
 n-workshop/
X-COST-TYPE:free
X-ALT-DESC;FMTTYPE=text/html:<!DOCTYPE HTML PUBLIC '-//W3C//DTD HTML 3.2//E
 N'>\\n<HTML>\\n<HEAD>\\n<TITLE></TITLE>\\n</HEAD>\\n<BODY><p>Thank you to 
 everyone who came along to our Ideas Night the other week. It was a terrif
 ic night and a lot of good creativity was flowing.</p>\n<p>Resoundingly\, 
 it was decided that the very next step in our journey to greatness was a S
 trategic Planning and Vision Workshop\, so we could develop a purpose and 
 everyone can align to that.</p>\n<p>So\, before ideas are put forward we n
 eed to have a vision and strategy plan (VASP) so that the USBC is projecte
 d and a structured community body working towards business growth in the U
 SBC.</p>\n<p>By doing this we will have a clear model of what the USBC wan
 ts to achieve and be able to present the USBC as a professional and struct
 ured entity.</p>\n<p>This will also be something that can be used when mak
 ing proposals and grant requests.</p>\n<p>It was agreed this workshop shou
 ld be done as soon as possible with the involvement of an external facilit
 ator.</p>\n<p>We have been very lucky to score Joe and Diane from the NSW 
 Business Chamber to help us by facilitating this meeting\, and it will be 
 on Monday\, the 24th of July at 3pm at the Thunderbolt Inn (Bottom pub)\, 
 followed by dinner (at own expense) if you so choose.</p>\n<p>In preparati
 on for this workshop consider any main points of issue that should be incl
 uded in the VASP.</p>\n<p>Put your thinking caps on and let’s together wor
 k out in what direction we want to take this\, our Business Chamber!</p>\n
 <p>All interested in seeing business in our shire thrive are welcome – tel
 l your colleagues too.</p>\n<p>See you on Monday afternoon! If you can’t a
 ttend please email your suggestions to Sonia at <span title='' class='pep-
 email'>chamber(Replace this parenthesis with the @ sign)urallashirebusines
 schamber.com</span></p>\n</BODY></HTML>
END:VEVENT
END:VCALENDAR
