BEGIN:VCALENDAR
VERSION:2.0
PRODID:-//185.62.237.140//NONSGML kigkonsult.se iCalcreator 2.26.9//
CALSCALE:GREGORIAN
METHOD:PUBLISH
X-WR-CALNAME:Uralla Shire Business Chamber
X-WR-CALDESC:Uralla Shire Business Chamber Inc
X-FROM-URL:https://urallabusinesschamber.org.au
X-WR-TIMEZONE:Australia/Sydney
BEGIN:VTIMEZONE
TZID:Australia/Sydney
X-LIC-LOCATION:Australia/Sydney
BEGIN:STANDARD
DTSTART:20200405T030000
TZOFFSETFROM:+1100
TZOFFSETTO:+1000
RDATE:20210404T030000
TZNAME:AEST
END:STANDARD
BEGIN:DAYLIGHT
DTSTART:20191006T020000
TZOFFSETFROM:+1000
TZOFFSETTO:+1100
RDATE:20201004T020000
TZNAME:AEDT
END:DAYLIGHT
END:VTIMEZONE
BEGIN:VEVENT
UID:ai1ec-5589@urallabusinesschamber.org.au
DTSTAMP:20200227T224600Z
CATEGORIES;LANGUAGE=en-AU:Public
CONTACT:
DESCRIPTION:<p>We need to form a committee of eight so we are inviting you 
 to come along to a meeting on the <strong><span style='color: magenta\;'>T
 hursday the 6th of April at 6pm at the Uralla Bowling Club</span></strong>
  so you can be a part of the election process\, either by standing for nom
 ination or by making a choice on who you would like to represent you.</p>
 \n<p>Positions to be elected are for:<br />\nPresident<br />\nVice Preside
 nt<br />\nSecretary<br />\nTreasurer<br />\nPlus four committee/board memb
 ers.</p>\n<p>In order to be on the committee you need to be an individual 
 who has an ABN\, is currently trading and making a living out of your busi
 ness and your place of business is in the Uralla Shire.</p>\n<p>We are als
 o looking for a large membership base so that everyone can have a say and 
 a vote! We can’t do this without you!</p>\n<p>We need a minimum of five an
 d a maximum of eight on the committee\, however all members of the Chamber
  are encouraged to attend meetings.</p>\n<p>We see this Chamber as being a
 n inclusive cooperative group of Uralla Shire Businesses working together 
 for the common goal of making the Uralla Shire a thriving economy and a su
 ccess for all businesses and residents of the Uralla Region. This can take
  the form of supporting individual businesses\, but the over-arching visio
 n is to make Uralla an awesome place to visit\, work and live – and have t
 he entire country know that! We have some golden opportunities already in 
 our Shire\, and with the support of an already interested and favourable S
 hire Council\, and a handy NSW Minister of Tourism on board\, we can reall
 y run with this – the potential is huge here!</p>\n<p>Please rsvp to <span
  id='cloak6dbbc2ee65916f96f77a4d1f86ddb7f9'><span title='' class='pep-emai
 l'>chamber(Replace this parenthesis with the @ sign)urallashirebusinesscha
 mber.com</span></span> by the 3rd of April\, thank you.</p>\n<p>Please pas
 s this info on to anyone in business in the Uralla Shire whom you think wo
 uld be interested.</p>\n<p>See you there!</p>
DTSTART;TZID=Australia/Sydney:20170406T180000
DTEND;TZID=Australia/Sydney:20170406T200000
GEO:-30.63911;+151.49668
LOCATION:Uralla Bowling Club @ 19 Queen St\, Uralla\, NSW 2358
SEQUENCE:0
SUMMARY:Startup Meeting
URL:https://urallabusinesschamber.org.au/event/startup-meeting/
X-COST-TYPE:free
END:VEVENT
END:VCALENDAR
